BEGIN:VCALENDAR
VERSION:2.0
PRODID:-//ChamberMaster//Event Calendar 2.0//EN
METHOD:PUBLISH
X-PUBLISHED-TTL:P3D
REFRESH-INTERVAL:P3D
CALSCALE:GREGORIAN
BEGIN:VEVENT
DTSTART:20140306T040000Z
DTEND:20140306T050000Z
X-MICROSOFT-CDO-ALLDAYEVENT:FALSE
SUMMARY:Hamlet at Harper Joy Theatre
DESCRIPTION:Shakespeare takes us into a shadowy world where a complex young prince is torn between the demands of duty\, love\, and revenge. Which will win the battle for primacy in his troubled heart\, and how can Hamlet find peace when the questions he asks himself make action impossible?
X-ALT-DESC;FMTTYPE=text/html:Shakespeare takes us into a shadowy world where a complex young prince is torn between the demands of duty\, love\, and revenge. Which will win the battle for primacy in his troubled heart\, and how can Hamlet find peace when the questions he asks himself make action impossible?
LOCATION:Harper Joy Theatre 345 Boyer Ave Walla Walla\, WA 99362
UID:e.65.968
SEQUENCE:3
DTSTAMP:20260422T004350Z
URL:https://business.wwvchamber.com/events/details/hamlet-at-harper-joy-theatre-03-05-2014-968
END:VEVENT

END:VCALENDAR
