BEGIN:VCALENDAR
VERSION:2.0
PRODID:-//ChamberMaster//Event Calendar 2.0//EN
METHOD:PUBLISH
X-PUBLISHED-TTL:P3D
REFRESH-INTERVAL:P3D
CALSCALE:GREGORIAN
BEGIN:VEVENT
DTSTART:20141220T210000Z
DTEND:20141221T000000Z
X-MICROSOFT-CDO-ALLDAYEVENT:FALSE
SUMMARY:Hansel & Gretel Gingerbread Houses
DESCRIPTION:Kids of all ages are invited for an afternoon of building graham-cracker gingerbread houses at the YWCA.\n\nSpace is limited\, so registration is required. Sign up for one-hour slots at 1\, 2\, or 3 p.m. by calling 509-525-2570. For children 5 and younger\, parents are kindly asked to stay for the duration of the event.\n\nPlease bring $5 plus one non-perishable food item per child to share with the YWCA domestic violence shelter.
X-ALT-DESC;FMTTYPE=text/html:Kids of all ages are invited for an afternoon of building graham-cracker gingerbread houses at the YWCA.\n\nSpace is limited\, so registration is required. Sign up for one-hour slots at 1\, 2\, or 3 p.m. by calling 509-525-2570. For children 5 and younger\, parents are kindly asked to stay for the duration of the event.\n\nPlease bring $5 plus one non-perishable food item per child to share with the YWCA domestic violence shelter. 
LOCATION:213 S. First Ave.
UID:e.65.2274
SEQUENCE:3
DTSTAMP:20260421T090332Z
URL:https://business.wwvchamber.com/events/details/hansel-gretel-gingerbread-houses-12-20-2014-2274
END:VEVENT

END:VCALENDAR
