BEGIN:VCALENDAR
VERSION:2.0
PRODID:-//ChamberMaster//Event Calendar 2.0//EN
METHOD:PUBLISH
X-PUBLISHED-TTL:P3D
REFRESH-INTERVAL:P3D
CALSCALE:GREGORIAN
BEGIN:VEVENT
DTSTART:20140907T030000Z
DTEND:20140907T060000Z
X-MICROSOFT-CDO-ALLDAYEVENT:FALSE
SUMMARY:Harvest 101: with 80s Invasion
DESCRIPTION:After perusing our LPs for inspiration\, the band put together a list of favorite songs and took up the challenge to become the definitive 80s experience. It's All About The Details. The synth-based dance music of the 80s is a rich tapestry of sound with layered keyboards\, electronic percussion\, and highly polished production. There are plenty of bar bands out there playing a rough approximation of those 80s hits. As the saying goes\, "the devil is in the details". The challenge in playing such complex and recognizable music is to painstakingly recreate all the subtle nuances and tiny details. It's hard to do it really well\, and we put immense effort into preparing these songs for performance\, tweaking synth patches\, programming guitar tones and dialing in the electronic percussion.
X-ALT-DESC;FMTTYPE=text/html:After perusing our LPs for inspiration\, the band put together a list of favorite songs and took up the challenge to become the definitive 80s experience. It&#39\;s All About The Details. The synth-based dance music of the 80s is a rich tapestry of sound with layered keyboards\, electronic percussion\, and highly polished production. There are plenty of bar bands out there playing a rough approximation of those 80s hits. As the saying goes\, &quot\;the devil is in the details&quot\;. The challenge in playing such complex and recognizable music is to painstakingly recreate all the subtle nuances and tiny details. It&#39\;s hard to do it really well\, and we put immense effort into preparing these songs for performance\, tweaking synth patches\, programming guitar tones and dialing in the electronic percussion.
LOCATION:Main Street Studios 207 West Main Street\, Walla Walla\, WA 99362
UID:e.65.1897
SEQUENCE:3
DTSTAMP:20260421T140450Z
URL:https://business.wwvchamber.com/events/details/harvest-101-with-80s-invasion-09-06-2014-1897
END:VEVENT

END:VCALENDAR
