BEGIN:VCALENDAR
VERSION:2.0
PRODID:-//ChamberMaster//Event Calendar 2.0//EN
METHOD:PUBLISH
X-PUBLISHED-TTL:P3D
REFRESH-INTERVAL:P3D
CALSCALE:GREGORIAN
BEGIN:VEVENT
DTSTART:20140531T030000Z
DTEND:20140531T070000Z
X-MICROSOFT-CDO-ALLDAYEVENT:FALSE
SUMMARY:he Oz Noy Trio ft. Keith Carlock & Oteil Burbridge
DESCRIPTION:Main Street Studios welcomes jazz trio Oz Noy (guitar)\, Oteil Burbridge (bass) and Keith Carlock (drums). ?It?s Jazz. It just doesn?t sound like it.? This is how virtuoso guitarist Oz Noy describes his intoxicating blend of jazz\, funk\, rock\, blues\, and r&b.
X-ALT-DESC;FMTTYPE=text/html:Main Street Studios welcomes jazz trio Oz Noy (guitar)\, Oteil Burbridge (bass) and Keith Carlock (drums). ?It?s Jazz. It just doesn?t sound like it.? This is how virtuoso guitarist Oz Noy describes his intoxicating blend of jazz\, funk\, rock\, blues\, and r&amp\;b.
LOCATION:Main Street Studios 207\, W. Main Street\, Walla Walla\, WA
UID:e.65.1753
SEQUENCE:3
DTSTAMP:20260421T211446Z
URL:https://business.wwvchamber.com/events/details/he-oz-noy-trio-ft-keith-carlock-oteil-burbridge-05-30-2014-1753
END:VEVENT

END:VCALENDAR
