BEGIN:VCALENDAR
VERSION:2.0
PRODID:-//ChamberMaster//Event Calendar 2.0//EN
METHOD:PUBLISH
X-PUBLISHED-TTL:P3D
REFRESH-INTERVAL:P3D
CALSCALE:GREGORIAN
BEGIN:VEVENT
DTSTART:20141205T180000Z
DTEND:20141208T010000Z
X-MICROSOFT-CDO-ALLDAYEVENT:FALSE
SUMMARY:Holiday Barrel 2014 at REININGER Winery
DESCRIPTION:You're invited to a special tasting at REININGER that will include:\n\n- 2012 REININGER Cab Sauv - new release!\n- 2012 REININGER Syrah - new release!\n- 2011 REININGER Merlot - new release!\n- 2012 REININGER Reserve Chardonnay - new release!\n- 2013 REININGER Semillon - new release!\n\nChuck is scouring the REININGER barrel room for something extra special for you to sample.\n\nWe'll also have some tasty nibbles for you to enjoy.
X-ALT-DESC;FMTTYPE=text/html:You're invited to a special tasting at REININGER that will include:\n\n- 2012 REININGER Cab Sauv - new release!\n- 2012 REININGER Syrah - new release!\n- 2011 REININGER Merlot - new release!\n- 2012 REININGER Reserve Chardonnay - new release!\n- 2013 REININGER Semillon - new release!\n\nChuck is scouring the REININGER barrel room for something extra special for you to sample.\n\nWe'll also have some tasty nibbles for you to enjoy.
LOCATION:REININGER Winery 5858 Old Hwy 12 Walla Walla\, WA 99362
UID:e.65.2270
SEQUENCE:3
DTSTAMP:20260421T090539Z
URL:https://business.wwvchamber.com/events/details/holiday-barrel-2014-at-reininger-winery-12-05-2014-2270
END:VEVENT

END:VCALENDAR
