BEGIN:VCALENDAR
VERSION:2.0
PRODID:-//ChamberMaster//Event Calendar 2.0//EN
METHOD:PUBLISH
X-PUBLISHED-TTL:P3D
REFRESH-INTERVAL:P3D
CALSCALE:GREGORIAN
BEGIN:VEVENT
DTSTART:20141205T180000Z
DTEND:20141208T003000Z
X-MICROSOFT-CDO-ALLDAYEVENT:FALSE
SUMMARY:Holiday Barrel at Spring Valley
DESCRIPTION:Join us for Holiday Barrel at Spring Valley Vineyard tasting room downtown December 5-7\, 2014 for wine tasting\, appetizers\, and live music by Garth Olson.  We will be tasting 2013 Nina Lee and 2013 Uriah from the barrel along with our current vintages from Walla Walla Valley.  We will be open downtown Friday\, 12/5 from 10am-4:30pm\, Saturday with appetizers and live music\, 12/6 from 10am-5pm\, and Sunday 12/7 from 10am-4:30pm. \n\n\n\nWe will open at the Ranch on Saturday at 1663 Corkrum Road from 11am-3pm with cheese and meat pairings and live music by Emily Callender's band.
X-ALT-DESC;FMTTYPE=text/html:Join us for Holiday Barrel at Spring Valley Vineyard tasting room downtown December 5-7\, 2014 for wine tasting\, appetizers\, and live music by Garth Olson.&nbsp\; We will be tasting 2013 Nina Lee and 2013 Uriah from the barrel along with our current vintages from Walla Walla Valley.&nbsp\; We will be open downtown Friday\, 12/5 from 10am-4:30pm\, Saturday with appetizers and live music\, 12/6 from 10am-5pm\, and Sunday 12/7 from 10am-4:30pm.&nbsp\;<br />\n<br />\nWe will open at the Ranch on Saturday at 1663 Corkrum Road from 11am-3pm with cheese and meat pairings and live music by Emily Callender&#39\;s band.&nbsp\;<br />\n<br />\n<br />\n<br />\n&nbsp\;
LOCATION:18 N 2nd Ave\, Walla Walla and the Ranch at 1663 Corkrum Road
UID:e.65.2275
SEQUENCE:3
DTSTAMP:20260421T090033Z
URL:https://business.wwvchamber.com/events/details/holiday-barrel-at-spring-valley-12-05-2014-2275
END:VEVENT

END:VCALENDAR
