BEGIN:VCALENDAR
VERSION:2.0
PRODID:-//ChamberMaster//Event Calendar 2.0//EN
METHOD:PUBLISH
X-PUBLISHED-TTL:P3D
REFRESH-INTERVAL:P3D
CALSCALE:GREGORIAN
BEGIN:VEVENT
DTSTART:20141205T180000Z
DTEND:20141208T000000Z
X-MICROSOFT-CDO-ALLDAYEVENT:FALSE
SUMMARY:Holiday Barrel Tasting Weekend @ Forgeron Cellars!
DESCRIPTION:Join the Forgeron Cellars Cru in Downtown Walla Walla for a preview of future ANVIL releases with exclusive barrel samples! We'll be open extended hours throughout the weekend:\n10am-5:30pm\, Friday\, December 5\n10am-5:00pm\, Saturday\, December 6\n10am-4:00pm\, Sunday\, December 7\n\nOur featured Barrel Samples from our Luxury Line ANVIL - the ANVIL 2012 WW Cabernet Sauvignon PLUS ANVIL 2013 French Creek Chardonnay. NEW Releases to sample will include:\n2013 Riesling ? Underwood Mtn Vineyard \n2012 Façon Rouge GSM Blend\n2011 Syrah ? Les Collines Vineyard \n2011 Malbec ? StoneTree Vineyard \n\nSaturday\, December 6\, 1-3pm we?ll feature WW author & former Forgeron Cru member\, the Wild Walla Walla Wine Woman Catie McIntyre Walker\, signing her new book! ?Wines of Walla Walla Valley: a Deep-Rooted History? will be available for purchase in our Tasting Room.\n\nSOCIÉTÉ Members\, join us @ our 5th Annual SOCIÉTÉ Raclette Party Friday\, December 6\, 6:30-9pm! Featuring Alpine cheese\, meats (including Walldeaux Smithie-infused salami)\, grilled vegetables & baguette\, it?s delicious with both Marie-Eve's Red AND White wines! Call 509.522.9463 or e-mail Anne @ anne@forgeroncellars.com to reserve your spot!
X-ALT-DESC;FMTTYPE=text/html:Join the Forgeron Cellars Cru in Downtown Walla Walla for a preview of future ANVIL releases with exclusive barrel samples! We'll be open extended hours throughout the weekend:\n10am-5:30pm\, Friday\, December 5\n10am-5:00pm\, Saturday\, December 6\n10am-4:00pm\, Sunday\, December 7\n\nOur featured Barrel Samples from our Luxury Line ANVIL - the ANVIL 2012 WW Cabernet Sauvignon PLUS ANVIL 2013 French Creek Chardonnay. NEW Releases to sample will include:\n2013 Riesling ? Underwood Mtn Vineyard \n2012 Façon Rouge GSM Blend\n2011 Syrah ? Les Collines Vineyard \n2011 Malbec ? StoneTree Vineyard \n\nSaturday\, December 6\, 1-3pm we?ll feature WW author &amp\; former Forgeron Cru member\, the Wild Walla Walla Wine Woman Catie McIntyre Walker\, signing her new book! ?Wines of Walla Walla Valley: a Deep-Rooted History? will be available for purchase in our Tasting Room.\n\nSOCIÉTÉ Members\, join us @ our 5th Annual SOCIÉTÉ Raclette Party Friday\, December 6\, 6:30-9pm! Featuring Alpine cheese\, meats (including Walldeaux Smithie-infused salami)\, grilled vegetables &amp\; baguette\, it?s delicious with both Marie-Eve's Red AND White wines! Call 509.522.9463 or e-mail Anne @ anne@forgeroncellars.com to reserve your spot!
LOCATION:The Barrel Room @ Forgeron Cellars - 33 W. Birch Street\, Walla Walla\, WA 99362
UID:e.65.2246
SEQUENCE:3
DTSTAMP:20260421T090124Z
URL:https://business.wwvchamber.com/events/details/holiday-barrel-tasting-weekend-forgeron-cellars-12-05-2014-2246
END:VEVENT

END:VCALENDAR
