BEGIN:VCALENDAR
VERSION:2.0
PRODID:-//ChamberMaster//Event Calendar 2.0//EN
METHOD:PUBLISH
X-PUBLISHED-TTL:P3D
REFRESH-INTERVAL:P3D
CALSCALE:GREGORIAN
BEGIN:VEVENT
DTSTART:20141220T030000Z
DTEND:20141220T060000Z
X-MICROSOFT-CDO-ALLDAYEVENT:FALSE
SUMMARY:"Holidays in Ivory" - Mark Brown & Gary Hemenway on Dual Pianos
DESCRIPTION:Two of Walla Walla?s favorite musicians\, Dr. Mark Brown and Gary Hemenway\, take to the stage on dual grand pianos. Additional local guest artists will include: Doug Scarborough\, Dave Glenn\, Clairece Rosati\, Jennifer Northam\, Gary Gemberling and Kathleen Gemberling.\n\nAll proceeds benefit Friends of Children of Walla Walla.
X-ALT-DESC;FMTTYPE=text/html:<p>Two of Walla Walla?s favorite musicians\, Dr. Mark Brown and Gary Hemenway\, take to the stage on dual grand pianos.&nbsp\;<span style="line-height:1.6">Additional local guest artists will include: Doug Scarborough\, Dave Glenn\, Clairece Rosati\, Jennifer Northam\, Gary Gemberling and Kathleen Gemberling.</span></p>\n\n<p>All proceeds benefit Friends of Children of Walla Walla.</p>\n
LOCATION:Gesa Power House Theatre
UID:e.65.2245
SEQUENCE:3
DTSTAMP:20260421T090730Z
URL:https://business.wwvchamber.com/events/details/holidays-in-ivory-mark-brown-gary-hemenway-on-dual-pianos-12-19-2014-2245
END:VEVENT

END:VCALENDAR
