BEGIN:VCALENDAR
VERSION:2.0
PRODID:-//ChamberMaster//Event Calendar 2.0//EN
METHOD:PUBLISH
X-PUBLISHED-TTL:P3D
REFRESH-INTERVAL:P3D
CALSCALE:GREGORIAN
BEGIN:VEVENT
DTSTART:20141213T180000Z
DTEND:20141214T010000Z
X-MICROSOFT-CDO-ALLDAYEVENT:FALSE
SUMMARY:"Home for the Holidays" - shopping\, entertainment\, and Santa!
DESCRIPTION:More than 20 local vendors and food trucks will be at the Gesa Power House Theatre on Saturday\, December 13\, from 10:00 a.m. to 5:00 p.m. In addition to cookie decorating and other fun activities for the kids throughout the day\, Santa Claus will be on stage from 1 p.m. to 4 p.m.
X-ALT-DESC;FMTTYPE=text/html:More than 20 local vendors and food trucks will be at the Gesa Power House Theatre on Saturday\, December 13\, from 10:00 a.m. to 5:00 p.m. In addition to cookie decorating and other fun activities for the kids throughout the day\, Santa Claus will be on stage from 1 p.m. to 4 p.m.
LOCATION:Gesa Power House Theatre\, 111 North 6th Avenue\, Walla Walla\, WA 99362
UID:e.65.2014
SEQUENCE:3
DTSTAMP:20260421T090811Z
URL:https://business.wwvchamber.com/events/details/home-for-the-holidays-shopping-entertainment-and-santa-12-13-2014
END:VEVENT

END:VCALENDAR
