BEGIN:VCALENDAR
VERSION:2.0
PRODID:-//ChamberMaster//Event Calendar 2.0//EN
METHOD:PUBLISH
X-PUBLISHED-TTL:P3D
REFRESH-INTERVAL:P3D
CALSCALE:GREGORIAN
BEGIN:VEVENT
DTSTART:20260425T030000Z
DTEND:20260425T040000Z
X-MICROSOFT-CDO-ALLDAYEVENT:FALSE
SUMMARY:Homecoming Vespers: PRISM Concert
DESCRIPTION:PRISM is an annual concert held at Walla Walla University which highlights the university's music groups and students. These ensembles include the two choirs\, University Singers and ICantori\, Wind Symphony\, Symphony Orchestra\, as well as several soloists skilled in several instrumental backgrounds. In an hour of continuous music\, audience members sit within darkness as various singers\, instrumentalists\, and ensembles are engulfed in spotlight throughout the performance\, similar to the refracted light shone through a prism. Doors will close at exactly 8:00pm at which NO entry will be permitted. The concert itself is free for all ages. We encourage and welcome all who are able to attend.
X-ALT-DESC;FMTTYPE=text/html:PRISM is an annual concert held at Walla Walla University which highlights the university&#39\;s music groups and students. These ensembles include the two choirs\, University Singers and ICantori\, Wind Symphony\, Symphony Orchestra\, as well as several soloists skilled in several instrumental backgrounds. In an hour of continuous music\, audience members sit within darkness as various singers\, instrumentalists\, and ensembles are engulfed in spotlight throughout the performance\, similar to the refracted light shone through a prism. Doors will close at exactly 8:00pm at which NO entry will be permitted. The concert itself is free for all ages. We encourage and welcome all who are able to attend.
LOCATION:Walla Walla University Church
UID:e.65.22000
SEQUENCE:3
DTSTAMP:20260421T132125Z
URL:https://business.wwvchamber.com/events/details/homecoming-vespers-prism-concert-22000
END:VEVENT

END:VCALENDAR
