BEGIN:VCALENDAR
VERSION:2.0
PRODID:-//ChamberMaster//Event Calendar 2.0//EN
METHOD:PUBLISH
X-PUBLISHED-TTL:P3D
REFRESH-INTERVAL:P3D
CALSCALE:GREGORIAN
BEGIN:VEVENT
DTSTART:20140502T030000Z
DTEND:20140504T065500Z
X-MICROSOFT-CDO-ALLDAYEVENT:FALSE
SUMMARY:HOTEL NOTéL SpringTime 1963 at The Dacres
DESCRIPTION:Join us Spring Release weekend\, May 1st ? 3rd as we welcome back Lily Verlaine and Jasper McCann Presents for another time-capsule experience back to Springtime 1963 at the Dacres. Thursday is wine industry night with a special price for wine and service industry members\, with Friday and Saturday will be open to the public. Get your tickets quickly. We?ll have less seating then we did when they were here in March\, so book now if you want a good seat or table.
X-ALT-DESC;FMTTYPE=text/html:Join us Spring Release weekend\, May 1st ? 3rd as we welcome back Lily Verlaine and Jasper McCann Presents for another time-capsule experience back to Springtime 1963 at the Dacres. Thursday is wine industry night with a special price for wine and service industry members\, with Friday and Saturday will be open to the public. Get your tickets quickly. We?ll have less seating then we did when they were here in March\, so book now if you want a good seat or table.
LOCATION:Main Street Studios - 207 West Main Street\, Walla Walla
UID:e.65.1740
SEQUENCE:3
DTSTAMP:20260421T211521Z
URL:https://business.wwvchamber.com/events/details/hotel-not&#233;l-springtime-1963-at-the-dacres-05-01-2014-1740
END:VEVENT

END:VCALENDAR
