BEGIN:VCALENDAR
VERSION:2.0
PRODID:-//ChamberMaster//Event Calendar 2.0//EN
METHOD:PUBLISH
X-PUBLISHED-TTL:P3D
REFRESH-INTERVAL:P3D
CALSCALE:GREGORIAN
BEGIN:VEVENT
DTSTART:20140501T153000Z
DTEND:20140501T190000Z
X-MICROSOFT-CDO-ALLDAYEVENT:FALSE
SUMMARY:How To Sell More Wine Direct To Consumer
DESCRIPTION:Meet with direct to consumer wine industry experts and learn how to grow your DTC wine sales. Space is limited to the first 50 attendess and is first come first served.
X-ALT-DESC;FMTTYPE=text/html:Meet with direct to consumer wine industry experts and learn how to grow your DTC wine sales. Space is limited to the first 50 attendess and is first come first served.
LOCATION:Basel Cellars 2901 Old Milton Hwy Walla Walla\, WA 99362
UID:e.65.1672
SEQUENCE:3
DTSTAMP:20260421T224813Z
URL:https://business.wwvchamber.com/events/details/how-to-sell-more-wine-direct-to-consumer-05-01-2014-1672
END:VEVENT

END:VCALENDAR
