BEGIN:VCALENDAR
VERSION:2.0
PRODID:-//ChamberMaster//Event Calendar 2.0//EN
METHOD:PUBLISH
X-PUBLISHED-TTL:P3D
REFRESH-INTERVAL:P3D
CALSCALE:GREGORIAN
BEGIN:VEVENT
DTSTART:20260426T000000Z
DTEND:20260426T013000Z
X-MICROSOFT-CDO-ALLDAYEVENT:FALSE
SUMMARY:ICantori Reunion Choral Concert
DESCRIPTION:Join us this alumni weekend\, 25 April at 5:00 p.m.\, as we have our ICantori Reunion Choral Concert\, featuring past ICantori alumni from 2009-2025\, the years where the choir was under Dr. Kraig Scott's leadership. This concert features repertoire composed by ICantori alumni Aric Vyhmeister and Bryce Weber\, as well as Requiem\, Op. 48 by Gabriel Faur  with the Walla Walla University Chamber Orchestra. All are invited and are welcome to attend!
X-ALT-DESC;FMTTYPE=text/html:Join us this alumni weekend\, 25 April at 5:00 p.m.\, as we have our ICantori Reunion Choral Concert\, featuring past ICantori alumni from 2009-2025\, the years where the choir was under Dr. Kraig Scott&#39\;s leadership. This concert features repertoire composed by ICantori alumni Aric Vyhmeister and Bryce Weber\, as well as Requiem\, Op. 48 by Gabriel Faur&eacute\; with the Walla Walla University Chamber Orchestra. All are invited and are welcome to attend!
LOCATION:Walla Walla University Church
UID:e.65.22001
SEQUENCE:3
DTSTAMP:20260421T101939Z
URL:https://business.wwvchamber.com/events/details/icantori-reunion-choral-concert-22001
END:VEVENT

END:VCALENDAR
