BEGIN:VCALENDAR
VERSION:2.0
PRODID:-//ChamberMaster//Event Calendar 2.0//EN
METHOD:PUBLISH
X-PUBLISHED-TTL:P3D
REFRESH-INTERVAL:P3D
CALSCALE:GREGORIAN
BEGIN:VEVENT
DTSTART:20140618T003000Z
DTEND:20140618T013000Z
X-MICROSOFT-CDO-ALLDAYEVENT:FALSE
SUMMARY:Ice Cream Social at the Walla Walla Senior Center
DESCRIPTION:"Please\, come and join us for Walla Walla's best Ice Cream Social at the Senior Center on Tuesday\, June 17 from 5:30-6:30. Featuring Ice Cream Sundaes with brownies\, toppings galore\, and Root Beer Floats! We will have a fabulous performer\, Cliff Spencer\, One Man Band\, providing us with Country music and singing entertainment throughout the evening! You can even dance if you like! All ages are welcome. Free to Senior Center Members and only $4.00 for non-members."
X-ALT-DESC;FMTTYPE=text/html:&ldquo\;Please\, come and join us for Walla Walla&rsquo\;s best Ice Cream Social at the Senior Center on Tuesday\, June 17 from 5:30-6:30. Featuring Ice Cream Sundaes with brownies\, toppings galore\, and Root Beer Floats! We will have a fabulous performer\, Cliff Spencer\, One Man Band\, providing us with Country music and singing entertainment throughout the evening! You can even dance if you like! All ages are welcome. Free to Senior Center Members and only $4.00 for non-members.&rdquo\;
LOCATION:Senior Center 720 Sprague Walla Walla\, WA
UID:e.65.1796
SEQUENCE:3
DTSTAMP:20260421T195222Z
URL:https://business.wwvchamber.com/events/details/ice-cream-social-at-the-walla-walla-senior-center-06-17-2014-1796
END:VEVENT

END:VCALENDAR
