BEGIN:VCALENDAR
VERSION:2.0
PRODID:-//ChamberMaster//Event Calendar 2.0//EN
METHOD:PUBLISH
X-PUBLISHED-TTL:P3D
REFRESH-INTERVAL:P3D
CALSCALE:GREGORIAN
BEGIN:VEVENT
DTSTART:20140823T010000Z
DTEND:20140823T050000Z
X-MICROSOFT-CDO-ALLDAYEVENT:FALSE
SUMMARY:Jazz and Wine Among Friends
DESCRIPTION:7th Annual "Jazz and Wine Among Friends"  Friday evening starts the three-day fundraising festival hosted by Friends of Children of Walla Walla\, a local mentoring organization for children.
X-ALT-DESC;FMTTYPE=text/html:7th Annual &quot\;Jazz and Wine Among Friends&quot\;&nbsp\; Friday evening starts the three-day fundraising festival hosted by Friends of Children of Walla Walla\, a local mentoring organization for children.
LOCATION:3 venues- Downtown Walla Walla
UID:e.65.1679
SEQUENCE:3
DTSTAMP:20260421T161041Z
URL:https://business.wwvchamber.com/events/details/jazz-and-wine-among-friends-08-22-2014-1679
END:VEVENT

END:VCALENDAR
