BEGIN:VCALENDAR
VERSION:2.0
PRODID:-//ChamberMaster//Event Calendar 2.0//EN
METHOD:PUBLISH
X-PUBLISHED-TTL:P3D
REFRESH-INTERVAL:P3D
CALSCALE:GREGORIAN
BEGIN:VEVENT
DTSTART:20140824T013000Z
DTEND:20140824T050000Z
X-MICROSOFT-CDO-ALLDAYEVENT:FALSE
SUMMARY:Jazz and Wine Among Friends
DESCRIPTION:7th Annual "Jazz and Wine Among Friends" Saturday evening enjoy music under the stars in the beautiful Walla Walla Valley. Details of the musicians and venue will be announced. Please call 527-4745 if you have any questions.
X-ALT-DESC;FMTTYPE=text/html:7th Annual &quot\;Jazz and Wine Among Friends&quot\; Saturday evening enjoy music under the stars in the beautiful Walla Walla Valley. Details of the musicians and venue will be announced. Please call 527-4745 if you have any questions.
LOCATION:
UID:e.65.1680
SEQUENCE:3
DTSTAMP:20260421T161033Z
URL:https://business.wwvchamber.com/events/details/jazz-and-wine-among-friends-08-23-2014-1680
END:VEVENT

END:VCALENDAR
