BEGIN:VCALENDAR
VERSION:2.0
PRODID:-//ChamberMaster//Event Calendar 2.0//EN
METHOD:PUBLISH
X-PUBLISHED-TTL:P3D
REFRESH-INTERVAL:P3D
CALSCALE:GREGORIAN
BEGIN:VEVENT
DTSTART:20140824T180000Z
DTEND:20140824T200000Z
X-MICROSOFT-CDO-ALLDAYEVENT:FALSE
SUMMARY:Jazz and Wine Among Friends
DESCRIPTION:7th Annual "Jazz and Wine Among Friends" ends its three day jazz festival at Whitehouse-Crawford Restaurant. Shrimp and grits\, beignets\, fruit and a housemade mimosa will be served while enjoying New Orleans-style Jazz!
X-ALT-DESC;FMTTYPE=text/html:7th Annual &quot\;Jazz and Wine Among Friends&quot\; ends its three day jazz festival at Whitehouse-Crawford Restaurant. Shrimp and grits\, beignets\, fruit and a housemade mimosa will be served while enjoying&nbsp\;New Orleans-style Jazz!
LOCATION:Whitehouse-Crawford Restaurant 55 West Cherry Street Walla Walla\, WA
UID:e.65.1681
SEQUENCE:3
DTSTAMP:20260421T161041Z
URL:https://business.wwvchamber.com/events/details/jazz-and-wine-among-friends-08-24-2014-1681
END:VEVENT

END:VCALENDAR
