BEGIN:VCALENDAR
VERSION:2.0
PRODID:-//ChamberMaster//Event Calendar 2.0//EN
METHOD:PUBLISH
X-PUBLISHED-TTL:P3D
REFRESH-INTERVAL:P3D
CALSCALE:GREGORIAN
BEGIN:VEVENT
DTSTART:20140628T030000Z
DTEND:20140628T060000Z
X-MICROSOFT-CDO-ALLDAYEVENT:FALSE
SUMMARY:Jeff Crosby & the Refugees with The Wicks
DESCRIPTION:Silent Conversations deals with the bittersweet emotions of leaving home and family for the first time and finding new appreciation for what you left behind. Partly written as Jeff moved from small town Idaho to L.A. with the rest composed during a month-long trip to Columbia\, the five songs reflect the change he was making in his life at the time and the clarity that comes from distance. The title track\, "Silent Conversations\," was written while standing in the doorway of a catholic church in Colombia during a torrential downpour. "This Old Town" is a reaction to coming home after moving to LA\, how different everything looks and how the place shaped him. "Family\, How Ya Been" is taken from letters Jeff was attempting to write home while staying in San Juan Del Sur\, Nicaragua. Jeff says\, "I'm not very good at keeping in touch or writing home so naturally the letters turned into a song. I found the poem while moving my stuff to LA and started performing the tune at pubs and bars. People really reacted to it so I decided to record it for the EP."
X-ALT-DESC;FMTTYPE=text/html:Silent Conversations deals with the bittersweet emotions of leaving home and family for the first time and finding new appreciation for what you left behind. Partly written as Jeff moved from small town Idaho to L.A. with the rest composed during a month-long trip to Columbia\, the five songs reflect the change he was making in his life at the time and the clarity that comes from distance. The title track\, &quot\;Silent Conversations\,&quot\; was written while standing in the doorway of a catholic church in Colombia during a torrential downpour. &quot\;This Old Town&quot\; is a reaction to coming home after moving to LA\, how different everything looks and how the place shaped him. &quot\;Family\, How Ya Been&quot\; is taken from letters Jeff was attempting to write home while staying in San Juan Del Sur\, Nicaragua. Jeff says\, &quot\;I&#39\;m not very good at keeping in touch or writing home so naturally the letters turned into a song. I found the poem while moving my stuff to LA and started performing the tune at pubs and bars. People really reacted to it so I decided to record it for the EP.&quot\;
LOCATION:Main Street Studios 207 West Main Street\, Walla Walla\, WA 99362
UID:e.65.1795
SEQUENCE:3
DTSTAMP:20260421T195131Z
URL:https://business.wwvchamber.com/events/details/jeff-crosby-the-refugees-with-the-wicks-06-27-2014-1795
END:VEVENT

END:VCALENDAR
