BEGIN:VCALENDAR
VERSION:2.0
PRODID:-//ChamberMaster//Event Calendar 2.0//EN
METHOD:PUBLISH
X-PUBLISHED-TTL:P3D
REFRESH-INTERVAL:P3D
CALSCALE:GREGORIAN
BEGIN:VEVENT
DTSTART:20140731T020000Z
DTEND:20140731T050000Z
X-MICROSOFT-CDO-ALLDAYEVENT:FALSE
SUMMARY:Jolie Holland live at Main Street Studios
DESCRIPTION:On her fourth studio album\, Jolie Holland embraces the live-studio rock approach of the 60's and 70's\, and transforms it with her unmistakable touch. Loosely inspired by Neil Young's Zuma\, with nods to The Velvet Underground\, the Stones\, and Bowie\, this playful dialogue gives way to Holland's most grounded work. Some of the lyrics were written tipsy on a train\, others out of a trance state--every one drawn from the seemingly bottomless well of her muse. From the electrified sidling ode of "Gold and Yellow\," through the outright violence of "Remember\," to "Rex's Blues"--a devastating Townes Van Zandt rendition\, Holland's inspirations and evolving aesthetic ring bell-clear in every song.
X-ALT-DESC;FMTTYPE=text/html:On her fourth studio album\, Jolie Holland embraces the live-studio rock approach of the 60&#39\;s and 70&#39\;s\, and transforms it with her unmistakable touch. Loosely inspired by Neil Young&#39\;s Zuma\, with nods to The Velvet Underground\, the Stones\, and Bowie\, this playful dialogue gives way to Holland&#39\;s most grounded work. Some of the lyrics were written tipsy on a train\, others out of a trance state--every one drawn from the seemingly bottomless well of her muse. From the electrified sidling ode of &quot\;Gold and Yellow\,&quot\; through the outright violence of &quot\;Remember\,&quot\; to &quot\;Rex&#39\;s Blues&quot\;--a devastating Townes Van Zandt rendition\, Holland&#39\;s inspirations and evolving aesthetic ring bell-clear in every song.
LOCATION:Main Street Studios 207 West Main Street\, Walla Walla\, WA 99362
UID:e.65.1863
SEQUENCE:3
DTSTAMP:20260421T180656Z
URL:https://business.wwvchamber.com/events/details/jolie-holland-live-at-main-street-studios-07-30-2014-1863
END:VEVENT

END:VCALENDAR
