BEGIN:VCALENDAR
VERSION:2.0
PRODID:-//ChamberMaster//Event Calendar 2.0//EN
METHOD:PUBLISH
X-PUBLISHED-TTL:P3D
REFRESH-INTERVAL:P3D
CALSCALE:GREGORIAN
BEGIN:VEVENT
DTSTART;VALUE=DATE:20140611
DTEND;VALUE=DATE:20140612
TRANSP:TRANSPARENT
X-MICROSOFT-CDO-ALLDAYEVENT:TRUE
SUMMARY:Jordan World Circus
DESCRIPTION:The Jordan World Circus is coming to Walla Walla! With three rings of affordable family fun\, The Jordan World Circus will thrill fans of all ages. Come see the death-defying aerial acts\, animal attractions including tigers and elephants. In addition to the performing acts\, kids will have the unique opportunity to ride and pet different types of animals.\n\n\n\nThis year's circus will definitely surprise you...Witness a human shoot out of a cannon\, Camels\, White Tigers\, Clowns\, Elephants\, Globe of Death Riders\, Zebras\, Jugglers\, Ponies\, aerialist and many more awesome acts that will thrill you!! *** Acts are subject to change ***
X-ALT-DESC;FMTTYPE=text/html:The Jordan World Circus is coming to Walla Walla! With three rings of affordable family fun\, The Jordan World Circus will thrill fans of all ages. Come see the death-defying aerial acts\, animal attractions including tigers and elephants. In addition to the performing acts\, kids will have the unique opportunity to ride and pet different types of animals.<br />\n<br />\nThis year&#39\;s circus will definitely surprise you...Witness a human shoot out of a cannon\, Camels\, White Tigers\, Clowns\, Elephants\, Globe of Death Riders\, Zebras\, Jugglers\, Ponies\, aerialist and many more awesome acts that will thrill you!! *** Acts are subject to change ***
LOCATION:Walla Walla County Fairgrounds
UID:e.65.1751
SEQUENCE:3
DTSTAMP:20260421T213131Z
URL:https://business.wwvchamber.com/events/details/jordan-world-circus-06-11-2014-1751
END:VEVENT

END:VCALENDAR
