BEGIN:VCALENDAR
VERSION:2.0
PRODID:-//ChamberMaster//Event Calendar 2.0//EN
METHOD:PUBLISH
X-PUBLISHED-TTL:P3D
REFRESH-INTERVAL:P3D
CALSCALE:GREGORIAN
BEGIN:VEVENT
DTSTART:20140918T200000Z
DTEND:20141107T000000Z
X-MICROSOFT-CDO-ALLDAYEVENT:FALSE
SUMMARY:Joyce Anderson Watercolor Classes
DESCRIPTION:Joyce Anderson Instructor. No age restrictions apply. Call 527-3775 or come in to the Senior Center at 720 Sprague to register. Intermediate/Advanced\, Thursdays\, September 18th to November 6th. 1-4PM Cost $80 Intermediate/Advanced\, Fridays\, September 19th to November 14th. 1-4PM Cost $80
X-ALT-DESC;FMTTYPE=text/html:Joyce Anderson Instructor. No age restrictions apply. Call 527-3775 or come in to the Senior Center at 720 Sprague to register. Intermediate/Advanced\, Thursdays\, September 18th to November 6th. 1-4PM Cost $80 Intermediate/Advanced\, Fridays\, September 19th to November 14th. 1-4PM Cost $80
LOCATION:Walla Walla Senior Citizens Center
UID:e.65.1917
SEQUENCE:3
DTSTAMP:20260421T104049Z
URL:https://business.wwvchamber.com/events/details/joyce-anderson-watercolor-classes-09-18-2014-1917
END:VEVENT

END:VCALENDAR
