BEGIN:VCALENDAR
VERSION:2.0
PRODID:-//ChamberMaster//Event Calendar 2.0//EN
METHOD:PUBLISH
X-PUBLISHED-TTL:P3D
REFRESH-INTERVAL:P3D
CALSCALE:GREGORIAN
BEGIN:VEVENT
DTSTART:20140810T210000Z
DTEND:20140810T233000Z
X-MICROSOFT-CDO-ALLDAYEVENT:FALSE
SUMMARY:"Julius Caesar"
DESCRIPTION:Shakespeare Walla Walla?s Summer Festival will feature the Seattle Shakespeare Company production of ?Julius Caesar?. With an all-female cast\, this enthralling political thriller portrays the life-and-death struggle for power in Rome. This production will be presented in Puget Sound parks prior to its Walla Walla arrival.
X-ALT-DESC;FMTTYPE=text/html:Shakespeare Walla Walla?s Summer Festival will feature the Seattle Shakespeare Company production of ?Julius Caesar?. With an all-female cast\, this enthralling political thriller portrays the life-and-death struggle for power in Rome. This production will be presented in Puget Sound parks prior to its Walla Walla arrival.
LOCATION:
UID:e.65.1839
SEQUENCE:3
DTSTAMP:20260421T171740Z
URL:https://business.wwvchamber.com/events/details/julius-caesar-08-10-2014-1839
END:VEVENT

END:VCALENDAR
