BEGIN:VCALENDAR
VERSION:2.0
PRODID:-//ChamberMaster//Event Calendar 2.0//EN
METHOD:PUBLISH
X-PUBLISHED-TTL:P3D
REFRESH-INTERVAL:P3D
CALSCALE:GREGORIAN
BEGIN:VEVENT
DTSTART:20140920T010000Z
DTEND:20140920T060000Z
X-MICROSOFT-CDO-ALLDAYEVENT:FALSE
SUMMARY:Kickoff Party - "The Weekend with Justin Wayne"
DESCRIPTION:Capps Broadcast Group and local radio station 107.7 The Vine will close down the street in front of Gesa Power House Theatre for a party to celebrate a new radio show. Multiple bands will be performing\, including: Kids Rock N Roll Camp Band (Walla Walla)\, JD Kindle and the Eastern Oregon Playboys (Pendleton)\, Roaming Herds of Buffalo (Seattle)\, and Kory Nagler (Walla Walla). \n\n \n\n100% of ticket sales ($5 Admission) will go to the Rock N Roll Camps of Pendleton and Walla Walla which are free to participants. \n\n\n\nFood trucks\, beer\, and wine available starting at 6:00 PM. Concerts begin at 7:00 PM.
X-ALT-DESC;FMTTYPE=text/html:<div>Capps Broadcast Group and local radio station 107.7 The Vine will close down the street in front of Gesa Power House Theatre for a party to celebrate a new radio show. Multiple bands will be performing\, including: Kids Rock N Roll Camp Band (Walla Walla)\, JD Kindle and the Eastern Oregon Playboys (Pendleton)\, Roaming Herds of Buffalo (Seattle)\, and Kory Nagler (Walla Walla).&nbsp\;</div>\n\n<div>&nbsp\;</div>\n\n<div>100% of ticket sales ($5 Admission) will go to the Rock N Roll Camps of Pendleton and Walla Walla which are free to participants.&nbsp\;<br />\n<br />\nFood trucks\, beer\, and wine available starting at 6:00 PM. Concerts begin at 7:00 PM.</div>\n
LOCATION:Gesa Power House Theatre
UID:e.65.1931
SEQUENCE:3
DTSTAMP:20260421T161033Z
URL:https://business.wwvchamber.com/events/details/kickoff-party-the-weekend-with-justin-wayne-09-19-2014-1931
END:VEVENT

END:VCALENDAR
