BEGIN:VCALENDAR
VERSION:2.0
PRODID:-//ChamberMaster//Event Calendar 2.0//EN
METHOD:PUBLISH
X-PUBLISHED-TTL:P3D
REFRESH-INTERVAL:P3D
CALSCALE:GREGORIAN
BEGIN:VEVENT
DTSTART:20140411T010000Z
DTEND:20140411T020000Z
X-MICROSOFT-CDO-ALLDAYEVENT:FALSE
SUMMARY:Kids' Show: The Great Kaplan
DESCRIPTION:David Kaplan plays "the Great Kaplan"\, an earnest vaudeville performer\, who while just trying to do a good show\, inexplicably gets caught in the crosshairs of the universe. Murphy's Law according to Rube Goldberg. Illusion\, music\, juggling and deadpan comedy collide in this hilarious vaudevillesque spectacle.Second in the WW General Hospital's Little Watts Series of Children's Entertainment.
X-ALT-DESC;FMTTYPE=text/html:David Kaplan plays &quot\;the Great Kaplan&quot\;\, an earnest vaudeville performer\, who while just&nbsp\;trying to do a good show\, inexplicably gets caught in the crosshairs of the universe.&nbsp\;Murphy&#39\;s Law according to Rube Goldberg.&nbsp\;Illusion\, music\, juggling and deadpan comedy collide in this hilarious vaudevillesque spectacle.Second in the WW General Hospital&#39\;s Little Watts Series of Children&#39\;s Entertainment.
LOCATION:Gesa Power House Theatre 111 N. Sixth Avenue Walla Walla\, WA
UID:e.65.1625
SEQUENCE:3
DTSTAMP:20260421T225514Z
URL:https://business.wwvchamber.com/events/details/kids-show-the-great-kaplan-04-10-2014-1625
END:VEVENT

END:VCALENDAR
