BEGIN:VCALENDAR
VERSION:2.0
PRODID:-//ChamberMaster//Event Calendar 2.0//EN
METHOD:PUBLISH
X-PUBLISHED-TTL:P3D
REFRESH-INTERVAL:P3D
CALSCALE:GREGORIAN
BEGIN:VEVENT
DTSTART:20140301T210000Z
DTEND:20140301T220000Z
X-MICROSOFT-CDO-ALLDAYEVENT:FALSE
SUMMARY:Kids' Show: TheSecret Life of Walter Manny
DESCRIPTION:An energetic physical comedy about an awkward eight-year-old boy whose overactive imagination gets him in and out of trouble. Fun for kids and parents\, the first of WW General Hospital's Little Watts Children's Series.
X-ALT-DESC;FMTTYPE=text/html:An energetic physical comedy about an awkward eight-year-old boy whose overactive imagination gets him in and out of trouble. Fun for kids and parents\, the first of WW General Hospital&#39\;s Little Watts Children&#39\;s Series.
LOCATION:Gesa Power House Theatre 111 N. Sixth Avenue Walla Walla\, WA
UID:e.65.1623
SEQUENCE:3
DTSTAMP:20260422T005327Z
URL:https://business.wwvchamber.com/events/details/kids-show-thesecret-life-of-walter-manny-03-01-2014-1623
END:VEVENT

END:VCALENDAR
