BEGIN:VCALENDAR
VERSION:2.0
PRODID:-//ChamberMaster//Event Calendar 2.0//EN
METHOD:PUBLISH
X-PUBLISHED-TTL:P3D
REFRESH-INTERVAL:P3D
CALSCALE:GREGORIAN
BEGIN:VEVENT
DTSTART:20141109T000000Z
DTEND:20141109T020000Z
X-MICROSOFT-CDO-ALLDAYEVENT:FALSE
SUMMARY:Kory Nagler live at Browne
DESCRIPTION:Local musician Kory Nagler will be playing in honor of Fall Release at our downtown tasting room on Saturday afternoon from 4 to 6pm\, join us!
X-ALT-DESC;FMTTYPE=text/html:Local musician Kory Nagler will be playing in honor of Fall Release at our downtown tasting room on Saturday afternoon from 4 to 6pm\, join us!
LOCATION:Browne Family Vineyards\, 31 E. Main Street
UID:e.65.2238
SEQUENCE:3
DTSTAMP:20260421T121423Z
URL:https://business.wwvchamber.com/events/details/kory-nagler-live-at-browne-11-08-2014-2238
END:VEVENT

END:VCALENDAR
