BEGIN:VCALENDAR
VERSION:2.0
PRODID:-//ChamberMaster//Event Calendar 2.0//EN
METHOD:PUBLISH
X-PUBLISHED-TTL:P3D
REFRESH-INTERVAL:P3D
CALSCALE:GREGORIAN
BEGIN:VEVENT
DTSTART:20141027T030000Z
DTEND:20141027T060000Z
X-MICROSOFT-CDO-ALLDAYEVENT:FALSE
SUMMARY:Larry and His Flask live at Main street Studios
DESCRIPTION:Larry And His Flask is made up of 6 young men who play their hearts out every chance they get! With beginnings in Redmond\, Oregon LAHF started playing in late 2003 as a 3 piece punk rock band and have since evolved into a 6 man hillbilly jamboree. Passion and love of life is what powers them.
X-ALT-DESC;FMTTYPE=text/html:Larry And His Flask is made up of 6 young men who play their hearts out every chance they get! With beginnings in Redmond\, Oregon LAHF started playing in late 2003 as a 3 piece punk rock band and have since evolved into a 6 man hillbilly jamboree. Passion and love of life is what powers them.
LOCATION:Main Street Studios 207 West Main Street\, Walla Walla\, WA 99362
UID:e.65.1869
SEQUENCE:3
DTSTAMP:20260421T133356Z
URL:https://business.wwvchamber.com/events/details/larry-and-his-flask-live-at-main-street-studios-10-26-2014-1869
END:VEVENT

END:VCALENDAR
