BEGIN:VCALENDAR
VERSION:2.0
PRODID:-//ChamberMaster//Event Calendar 2.0//EN
METHOD:PUBLISH
X-PUBLISHED-TTL:P3D
REFRESH-INTERVAL:P3D
CALSCALE:GREGORIAN
BEGIN:VEVENT
DTSTART:20140927T020000Z
DTEND:20140927T050000Z
X-MICROSOFT-CDO-ALLDAYEVENT:FALSE
SUMMARY:Live Music featuring Gary Hemenway and Sons del Sol Trio
DESCRIPTION:Live Music featuring Gary Hemenway and Sons del Sol Trio.  Wine available by the glass or bottle.  No Cover!
X-ALT-DESC;FMTTYPE=text/html:Live Music featuring Gary Hemenway and Sons del Sol Trio. &nbsp\;Wine available by the glass or bottle. &nbsp\;No Cover!&nbsp\;
LOCATION:Sinclair Estate Vineyards\, 109-B E Main Street\, Walla Walla\, WA 99362
UID:e.65.1875
SEQUENCE:3
DTSTAMP:20260421T161204Z
URL:https://business.wwvchamber.com/events/details/live-music-featuring-gary-hemenway-and-sons-del-sol-trio-09-26-2014-1875
END:VEVENT

END:VCALENDAR
