BEGIN:VCALENDAR
VERSION:2.0
PRODID:-//ChamberMaster//Event Calendar 2.0//EN
METHOD:PUBLISH
X-PUBLISHED-TTL:P3D
REFRESH-INTERVAL:P3D
CALSCALE:GREGORIAN
BEGIN:VEVENT
DTSTART:20140913T020000Z
DTEND:20140913T050000Z
X-MICROSOFT-CDO-ALLDAYEVENT:FALSE
SUMMARY:Live Music featuring Gary Winston and Erika Ingersoll
DESCRIPTION:What a fun night with this dynamic duo!! Wine by the glass or bottle available for purchase. NO COVER
X-ALT-DESC;FMTTYPE=text/html:What a fun night with this dynamic duo!! Wine by the glass or bottle available for purchase. NO COVER
LOCATION:Sinclair Estate Vineyards\, 109-B Main Street
UID:e.65.1873
SEQUENCE:3
DTSTAMP:20260421T140924Z
URL:https://business.wwvchamber.com/events/details/live-music-featuring-gary-winston-and-erika-ingersoll-09-12-2014-1873
END:VEVENT

END:VCALENDAR
