BEGIN:VCALENDAR
VERSION:2.0
PRODID:-//ChamberMaster//Event Calendar 2.0//EN
METHOD:PUBLISH
X-PUBLISHED-TTL:P3D
REFRESH-INTERVAL:P3D
CALSCALE:GREGORIAN
BEGIN:VEVENT
DTSTART:20141018T020000Z
DTEND:20141018T050000Z
X-MICROSOFT-CDO-ALLDAYEVENT:FALSE
SUMMARY:Live Music featuring Gary Winston and Erika Ingersoll
DESCRIPTION:Live Music featuring Gary Winston and Erika Ingersoll.  Wines available by the glass or bottle\; No Cover!
X-ALT-DESC;FMTTYPE=text/html:Live Music featuring Gary Winston and Erika Ingersoll. &nbsp\;Wines available by the glass or bottle\; No Cover!&nbsp\;
LOCATION:Sinclair Estate Vineyards\, 109-B E Main Street\, Walla Walla\, WA 99362
UID:e.65.1877
SEQUENCE:3
DTSTAMP:20260421T121636Z
URL:https://business.wwvchamber.com/events/details/live-music-featuring-gary-winston-and-erika-ingersoll-10-17-2014-1877
END:VEVENT

END:VCALENDAR
