BEGIN:VCALENDAR
VERSION:2.0
PRODID:-//ChamberMaster//Event Calendar 2.0//EN
METHOD:PUBLISH
X-PUBLISHED-TTL:P3D
REFRESH-INTERVAL:P3D
CALSCALE:GREGORIAN
BEGIN:VEVENT
DTSTART:20260405T000000Z
DTEND:20260405T020000Z
X-MICROSOFT-CDO-ALLDAYEVENT:FALSE
SUMMARY:Live Music: The Michael Kelly Band
DESCRIPTION:Come celebrate Spring Kickoff Weekend here in Walla Walla! We will be hosting the Michael Kelly Band for some great tunes. Seattle guitarist Michael Kelly blends blues\, jazz\, and Latin grooves into a captivating sound. With decades of experience and a fusion of soulful styles\, he performs solo or with his band across the Northwest. Bring your dancing shoes! Wines available by the glass or bottle.
X-ALT-DESC;FMTTYPE=text/html:Come celebrate Spring Kickoff Weekend here in Walla Walla! We will be hosting the Michael Kelly Band for some great tunes. Seattle guitarist Michael Kelly blends blues\, jazz\, and Latin grooves into a captivating sound. With decades of experience and a fusion of soulful styles\, he performs solo or with his band across the Northwest. Bring your dancing shoes! Wines available by the glass or bottle.
LOCATION:Walla Walla Vintners 225 Vineyard Lane Walla Walla
UID:e.65.21927
SEQUENCE:3
DTSTAMP:20260425T144845Z
URL:https://business.wwvchamber.com/events/details/live-music-the-michael-kelly-band-21927
END:VEVENT

END:VCALENDAR
