BEGIN:VCALENDAR
VERSION:2.0
PRODID:-//ChamberMaster//Event Calendar 2.0//EN
METHOD:PUBLISH
X-PUBLISHED-TTL:P3D
REFRESH-INTERVAL:P3D
CALSCALE:GREGORIAN
BEGIN:VEVENT
DTSTART:20140801T010000Z
DTEND:20140801T030000Z
X-MICROSOFT-CDO-ALLDAYEVENT:FALSE
SUMMARY:Living Without Joint Pain
DESCRIPTION:Do you aspire to do the things you love without worrying about hip or knee pain? Join us for a free informative session by Orthopaedic Surgeon Scott Hudson\, MD. He will discuss nonsurgical and surgical treatment options for chronic knee and hip pain.
X-ALT-DESC;FMTTYPE=text/html:<span style="color: rgb(20\, 24\, 35)\; font-family: Helvetica\, Arial\, 'lucida grande'\, tahoma\, verdana\, arial\, sans-serif\; font-size: 14px\; line-height: 17.920000076293945px\;">Do you aspire to do the things you love without worrying about hip or knee pain? Join us for a free informative session by Orthopaedic Surgeon Scott Hudson\, MD. He will discuss nonsurgical and surgical treatment options for chronic knee and hip pain.</span>
LOCATION:Walla Walla General Hospital
UID:e.65.1833
SEQUENCE:3
DTSTAMP:20260421T180331Z
URL:https://business.wwvchamber.com/events/details/living-without-joint-pain-07-31-2014-1833
END:VEVENT

END:VCALENDAR
