BEGIN:VCALENDAR
VERSION:2.0
PRODID:-//ChamberMaster//Event Calendar 2.0//EN
METHOD:PUBLISH
X-PUBLISHED-TTL:P3D
REFRESH-INTERVAL:P3D
CALSCALE:GREGORIAN
BEGIN:VEVENT
DTSTART:20140729T152500Z
DTEND:20140729T233000Z
X-MICROSOFT-CDO-ALLDAYEVENT:FALSE
SUMMARY:Look How Far We've Come - The Evolution of Palliative Care
DESCRIPTION:The 5th Annual Palliative Care Forum is sponsored by the Tri-State Inland Northwest Hospice Veteran Partnership.\n\n \n\nThe theme this year will be "Look How Far We've Come - The Evolution of Palliative Care". The Keynote presentation will be "Post Traumatic Stress and Contemporary Health Care"\, with Dr. Kraig Russell of the Portland Adventist Medical Center. Other subjects addressed will include "Emerging Palliative Care Programs"\, "Moral Distress"\, "Savvy Caregiving"\, and "Early Integration of Palliative Care and Oncology."\n\n \n\nThis is a professional conference for palliative and end-of-life care providers. Care"\, with Dr. Kraig Russell of the Portland Adventist Medical Center. Other subjects addressed will include "Emerging Palliative Care Programs"\, "Moral Distress"\, "Saavy Caregiging"\, and "Early Integration of Palliative Care and Oncology."\n\n\n\nFollow the "get tickets" link to view a full agenda and registration details. We hope you can join us for this day of learning and sharing with other professionals who are engaged with serving our Veteran population. It promises to be an excellent program!
X-ALT-DESC;FMTTYPE=text/html:<p class="MsoNormal" style="background: white\; margin: 0in 0in 0pt\;"><span style="font-size: 11px\;"><span lang="EN" style="color: rgb(51\, 51\, 51)\; mso-fareast-font-family: &quot\;Times New Roman&quot\;\; mso-bidi-font-family: &quot\;Times New Roman&quot\;\; mso-ansi-language: EN\;">The 5th Annual Palliative Care Forum is sponsored by the Tri-State Inland Northwest Hospice Veteran Partnership.</span></span><span lang="EN" style="color: rgb(51\, 51\, 51)\; font-size: 10pt\; mso-fareast-font-family: &quot\;Times New Roman&quot\;\; mso-bidi-font-family: &quot\;Times New Roman&quot\;\; mso-ansi-language: EN\;"><o:p></o:p></span></p>\n\n<p class="MsoNormal" style="background: white\; margin: 0in 0in 0pt\;"><span style="font-size: 11px\;"><span lang="EN" style="color: rgb(51\, 51\, 51)\; mso-fareast-font-family: &quot\;Times New Roman&quot\;\; mso-bidi-font-family: &quot\;Times New Roman&quot\;\; mso-ansi-language: EN\;"><span style="mso-spacerun: yes\;">&nbsp\;</span></span></span><span lang="EN" style="color: rgb(51\, 51\, 51)\; font-size: 10pt\; mso-fareast-font-family: &quot\;Times New Roman&quot\;\; mso-bidi-font-family: &quot\;Times New Roman&quot\;\; mso-ansi-language: EN\;"><o:p></o:p></span></p>\n\n<p class="MsoNormal" style="background: white\; margin: 0in 0in 0pt\;"><span style="font-size: 11px\;"><span lang="EN" style="color: rgb(51\, 51\, 51)\; mso-fareast-font-family: &quot\;Times New Roman&quot\;\; mso-bidi-font-family: &quot\;Times New Roman&quot\;\; mso-ansi-language: EN\;">The theme this year will be &quot\;Look How Far We&#39\;ve Come - The Evolution of Palliative Care&quot\;. The Keynote presentation will be &quot\;Post Traumatic Stress and Contemporary Health Care&quot\;\, with Dr. Kraig Russell of the Portland Adventist Medical Center. Other subjects addressed will include &quot\;Emerging Palliative Care Programs&quot\;\, &quot\;Moral Distress&quot\;\, &quot\;Savvy Caregiving&quot\;\, and &quot\;Early Integration of Palliative Care and Oncology.&quot\;</span></span><span lang="EN" style="color: rgb(51\, 51\, 51)\; font-size: 10pt\; mso-fareast-font-family: &quot\;Times New Roman&quot\;\; mso-bidi-font-family: &quot\;Times New Roman&quot\;\; mso-ansi-language: EN\;"><o:p></o:p></span></p>\n\n<p class="MsoNormal" style="background: white\; margin: 0in 0in 0pt\;"><span style="font-size: 11px\;"><span lang="EN" style="color: rgb(51\, 51\, 51)\; mso-fareast-font-family: &quot\;Times New Roman&quot\;\; mso-bidi-font-family: &quot\;Times New Roman&quot\;\; mso-ansi-language: EN\;"><span style="mso-spacerun: yes\;">&nbsp\;</span></span></span><span lang="EN" style="color: rgb(51\, 51\, 51)\; font-size: 10pt\; mso-fareast-font-family: &quot\;Times New Roman&quot\;\; mso-bidi-font-family: &quot\;Times New Roman&quot\;\; mso-ansi-language: EN\;"><o:p></o:p></span></p>\n\n<p class="MsoNormal" style="background: white\; margin: 0in 0in 0pt\;"><span style="font-size: 11px\;"><span lang="EN" style="color: rgb(51\, 51\, 51)\; mso-fareast-font-family: &quot\;Times New Roman&quot\;\; mso-bidi-font-family: &quot\;Times New Roman&quot\;\; mso-ansi-language: EN\;">This is a professional conference for palliative and end-of-life care providers.<span style="display: none\; mso-hide: all\;"> Care&quot\;\, with Dr. Kraig Russell of the Portland Adventist Medical Center. Other subjects addressed will include &quot\;Emerging Palliative Care Programs&quot\;\, &quot\;Moral Distress&quot\;\, &quot\;Saavy Caregiging&quot\;\, and &quot\;Early Integration of Palliative Care and Oncology.&quot\;<br />\n<br />\nFollow the &quot\;get tickets&quot\; link to view a full agenda and registration details. We hope you can join us for this day of learning and sharing with other professionals who are engaged with serving our Veteran population. It promises to be an excellent program!</span></span></span><span lang="EN" style="color: rgb(51\, 51\, 51)\; font-size: 10pt\; mso-fareast-font-family: &quot\;Times New Roman&quot\;\; mso-bidi-font-family: &quot\;Times New Roman&quot\;\; mso-ansi-language: EN\;"><o:p></o:p></span></p>\n
LOCATION:Melvin K. West Fine Arts Center\, Walla Walla University
UID:e.65.1777
SEQUENCE:3
DTSTAMP:20260421T180532Z
URL:https://business.wwvchamber.com/events/details/look-how-far-we-ve-come-the-evolution-of-palliative-care-07-29-2014-1777
END:VEVENT

END:VCALENDAR
