BEGIN:VCALENDAR
VERSION:2.0
PRODID:-//ChamberMaster//Event Calendar 2.0//EN
METHOD:PUBLISH
X-PUBLISHED-TTL:P3D
REFRESH-INTERVAL:P3D
CALSCALE:GREGORIAN
BEGIN:VEVENT
DTSTART:20140613T160000Z
DTEND:20140614T220000Z
X-MICROSOFT-CDO-ALLDAYEVENT:FALSE
SUMMARY:Love of Junk\, Walla Walla's Vintage Market
DESCRIPTION:The best of Vintage with over 60 vendors\, Food Trucks and booths\, and special music both days. Enjoy an acoustic duo on Saturday from 11 a.m. to 1 p.m. Find sassy salvage and repurposed\, recycled and newly created treasures along with demos on the farm and in the barn.
X-ALT-DESC;FMTTYPE=text/html:The best of Vintage with over 60 vendors\, Food Trucks and booths\, and special music both days. Enjoy an acoustic duo on Saturday from 11 a.m. to 1 p.m. Find sassy salvage and repurposed\, recycled and newly created treasures along with demos on the farm and in the barn.
LOCATION:Swenson Farm 221 Valley Chapel Rd. Walla Walla\, WA 99362
UID:e.65.1754
SEQUENCE:3
DTSTAMP:20260421T225039Z
URL:https://business.wwvchamber.com/events/details/love-of-junk-walla-walla-s-vintage-market-06-13-2014-1754
END:VEVENT

END:VCALENDAR
