BEGIN:VCALENDAR
VERSION:2.0
PRODID:-//ChamberMaster//Event Calendar 2.0//EN
METHOD:PUBLISH
X-PUBLISHED-TTL:P3D
REFRESH-INTERVAL:P3D
CALSCALE:GREGORIAN
BEGIN:VEVENT
DTSTART:20140614T040500Z
DTEND:20140614T220000Z
X-MICROSOFT-CDO-ALLDAYEVENT:FALSE
SUMMARY:Love of Junk\, Walla Walla's Vintage Market
DESCRIPTION:Fun annual Vintage Market on the Farm and in the Barn. Outdoors and indoors\, Food Trucks and booths\, All day Demos\, Music. Over 50 vendors with a wide range of vintage treasures. Vintage Trailer boutiques. Overnight camping available. Details at www.loveofjunk.com
X-ALT-DESC;FMTTYPE=text/html:Fun annual Vintage Market on the Farm and in the Barn. Outdoors and indoors\, Food Trucks and booths\, All day Demos\, Music. Over 50 vendors with a wide range of vintage treasures. Vintage Trailer boutiques. Overnight camping available. Details at www.loveofjunk.com
LOCATION:Swenson Farm 221 Valley Chapel Rd. Walla Walla\, WA 99362
UID:e.65.825
SEQUENCE:3
DTSTAMP:20260421T225039Z
URL:https://business.wwvchamber.com/events/details/love-of-junk-walla-walla-s-vintage-market-06-13-2014-825
END:VEVENT

END:VCALENDAR
