BEGIN:VCALENDAR
VERSION:2.0
PRODID:-//ChamberMaster//Event Calendar 2.0//EN
METHOD:PUBLISH
X-PUBLISHED-TTL:P3D
REFRESH-INTERVAL:P3D
CALSCALE:GREGORIAN
BEGIN:VEVENT
DTSTART:20140311T190000Z
DTEND:20140311T193000Z
X-MICROSOFT-CDO-ALLDAYEVENT:FALSE
SUMMARY:Lunch Time Learning at Animal Clinic of Walla Walla
DESCRIPTION:Your pet will want his/her teeth brushed! The Animal Clinic of Walla Walla has had sessions about oral care for  both cats and dogs in the past. We have talked about the need for home care and the benefits. This month\, to help our clients and patients even more\,  'How to get your pet to WANT his/her teeth brushed.  Buddy the spoodle will demonstrate as we (with no preparation)  desensitize and counter condition him to like and want his teeth to be brushed!
X-ALT-DESC;FMTTYPE=text/html:Your pet will want his/her teeth brushed! The Animal Clinic of Walla Walla has had sessions about oral care for&nbsp\; both cats and dogs in the past. We have talked about the need for home care and the benefits. This month\, to help our clients and patients even more\,&nbsp\; &#39\;How to get your pet to WANT his/her teeth brushed.&nbsp\; Buddy the spoodle will demonstrate as we (with no preparation)&nbsp\; desensitize and counter condition him to like and want his teeth to be brushed!
LOCATION:Animal Clinic of Walla Walla 2089 Taumarson Rd Walla Walla\, WA 99362
UID:e.65.1618
SEQUENCE:3
DTSTAMP:20260422T005112Z
URL:https://business.wwvchamber.com/events/details/lunch-time-learning-at-animal-clinic-of-walla-walla-03-11-2014-1618
END:VEVENT

END:VCALENDAR
