BEGIN:VCALENDAR
VERSION:2.0
PRODID:-//ChamberMaster//Event Calendar 2.0//EN
METHOD:PUBLISH
X-PUBLISHED-TTL:P3D
REFRESH-INTERVAL:P3D
CALSCALE:GREGORIAN
BEGIN:VEVENT
DTSTART:20140823T053000Z
DTEND:20140823T190000Z
X-MICROSOFT-CDO-ALLDAYEVENT:FALSE
SUMMARY:Main Street Studios presents: JAKUBI
DESCRIPTION:Drawing inspiration from genres as diverse as hip-hop/funk/pop/grunge-rock ? the intrigue is understandable. Their ability to naturally blend each element\, and above all else do it well\, a feat in itself. Sold out shows\, rave reviews\, festivals\, an overseas following (USA love!) and the momentous million plays ? it's pretty safe to say the future is clich -ridden bright for Jakubi.
X-ALT-DESC;FMTTYPE=text/html:Drawing inspiration from genres as diverse as hip-hop/funk/pop/grunge-rock ? the intrigue is understandable. Their ability to naturally blend each element\, and above all else do it well\, a feat in itself.&nbsp\;Sold out shows\, rave reviews\, festivals\, an overseas following (USA love!) and the momentous million plays ? it&#39\;s pretty safe to say the future is clich&eacute\;-ridden bright for Jakubi.
LOCATION:Main Street Studios 207 West Main Street\, Walla Walla\, WA 99362
UID:e.65.1894
SEQUENCE:3
DTSTAMP:20260421T172035Z
URL:https://business.wwvchamber.com/events/details/main-street-studios-presents-jakubi-08-22-2014-1894
END:VEVENT

END:VCALENDAR
