BEGIN:VCALENDAR
VERSION:2.0
PRODID:-//ChamberMaster//Event Calendar 2.0//EN
METHOD:PUBLISH
X-PUBLISHED-TTL:P3D
REFRESH-INTERVAL:P3D
CALSCALE:GREGORIAN
BEGIN:VEVENT
DTSTART:20140817T020000Z
DTEND:20140817T050000Z
X-MICROSOFT-CDO-ALLDAYEVENT:FALSE
SUMMARY:Main Street Studios presents: Nikki Hill
DESCRIPTION:Those who have seen Nikki Hill sing her ass off agree?this isn't just another newcomer on the scene\, this is a 'whiplash' moment. Where did this fireball come from? Why haven't I heard of her before? If you haven't heard of Nikki Hill yet\, you soon will\, and once you see her perform\, you won't forget her. Hill draws on vintage female rhythm and blues influences such as LaVern Baker\, Etta James and Ruth Brown\, as well as some of her favorite male singers Otis Redding and Solomon Burke\, without being stuck or pigeonholed strictly as a 'retro' artist. Her tough vocal style fits with contemporary sensibilities yet evokes all the great blues shouters of previous decades. With the success of similar artists such as Amy Winehouse or Imelda May\, Hill is poised to blaze her own trail in their wake.
X-ALT-DESC;FMTTYPE=text/html:Those who have seen Nikki Hill sing her ass off agree?this isn&#39\;t just another newcomer on the scene\, this is a &#39\;whiplash&#39\; moment. Where did this fireball come from? Why haven&#39\;t I heard of her before? If you haven&#39\;t heard of Nikki Hill yet\, you soon will\, and once you see her perform\, you won&#39\;t forget her. Hill draws on vintage female rhythm and blues influences such as LaVern Baker\, Etta James and Ruth Brown\, as well as some of her favorite male singers Otis Redding and Solomon Burke\, without being stuck or pigeonholed strictly as a &#39\;retro&#39\; artist. Her tough vocal style fits with contemporary sensibilities yet evokes all the great blues shouters of previous decades. With the success of similar artists such as Amy Winehouse or Imelda May\, Hill is poised to blaze her own trail in their wake.
LOCATION:Main Street Studios 207 West Main Street\, Walla Walla\, WA 99362
UID:e.65.1865
SEQUENCE:3
DTSTAMP:20260421T160808Z
URL:https://business.wwvchamber.com/events/details/main-street-studios-presents-nikki-hill-08-16-2014-1865
END:VEVENT

END:VCALENDAR
