BEGIN:VCALENDAR
VERSION:2.0
PRODID:-//ChamberMaster//Event Calendar 2.0//EN
METHOD:PUBLISH
X-PUBLISHED-TTL:P3D
REFRESH-INTERVAL:P3D
CALSCALE:GREGORIAN
BEGIN:VEVENT
DTSTART:20140719T030000Z
DTEND:20140719T060000Z
X-MICROSOFT-CDO-ALLDAYEVENT:FALSE
SUMMARY:Main Street Studios presents: Tim Snider & Caio Andretta\, Tony Furtado
DESCRIPTION:Unbridled energy\, intensity\, and musical eclecticism! Tim Snider plays and loops the electric violin\, guitar\, cajun\, and vocals creating aural landscapes that are forceful\, confessional\, and raw. Coming from Reno\, Nevada\, Tim picked up the violin when he was just three years old. Over the years\, exposure to rock music\, songwriters\, like Ben Harper and Paul Simon\, inspired him to play the guitar. Tony Furtado is an indie record label's dream artist. He has lived primarily on the road for the last two decades. He is gregarious\, insanely talented\, engaging and entertaining\, on and off stage. Granted\, he's had places to live\, but they've been temporary spaces (to paraphrase George Carlin) "they were places to put his stuff". That is\, until he moved to Portland\, OR. Now\, Tony Furtado\, the trouveur\, has found a place to call home. And it makes sense that the atmosphere of 'home' would allow him to write and produce his most accessible\, engaging album to date entitled Golden. Redwood Son doesn't just play roots music\, or funk music\, or Americana\, or some Northwest invention that comes out of adding unnecessary instruments. More than anything else\, Redwood Son plays fun music. They have fun playing it. Their fans have fun hearing it. That is the connection.
X-ALT-DESC;FMTTYPE=text/html:Unbridled energy\, intensity\, and musical eclecticism! Tim Snider plays and loops the electric violin\, guitar\, cajun\, and vocals creating aural landscapes that are forceful\, confessional\, and raw. Coming from Reno\, Nevada\, Tim picked up the violin when he was just three years old. Over the years\, exposure to rock music\, songwriters\, like Ben Harper and Paul Simon\, inspired him to play the guitar. Tony Furtado is an indie record label&#39\;s dream artist. He has lived primarily on the road for the last two decades. He is gregarious\, insanely talented\, engaging and entertaining\, on and off stage. Granted\, he&#39\;s had places to live\, but they&#39\;ve been temporary spaces (to paraphrase George Carlin) &quot\;they were places to put his stuff&quot\;. That is\, until he moved to Portland\, OR. Now\, Tony Furtado\, the trouveur\, has found a place to call home. And it makes sense that the atmosphere of &#39\;home&#39\; would allow him to write and produce his most accessible\, engaging album to date entitled Golden. Redwood Son doesn&#39\;t just play roots music\, or funk music\, or Americana\, or some Northwest invention that comes out of adding unnecessary instruments. More than anything else\, Redwood Son plays fun music. They have fun playing it. Their fans have fun hearing it. That is the connection.
LOCATION:Main Street Studios 207 West Main Street\, Walla Walla\, WA 99362
UID:e.65.1851
SEQUENCE:3
DTSTAMP:20260421T191039Z
URL:https://business.wwvchamber.com/events/details/main-street-studios-presents-tim-snider-caio-andretta-tony-furtado-07-18-2014-1851
END:VEVENT

END:VCALENDAR
