BEGIN:VCALENDAR
VERSION:2.0
PRODID:-//ChamberMaster//Event Calendar 2.0//EN
METHOD:PUBLISH
X-PUBLISHED-TTL:P3D
REFRESH-INTERVAL:P3D
CALSCALE:GREGORIAN
BEGIN:VEVENT
DTSTART:20140601T160000Z
DTEND:20140601T220000Z
X-MICROSOFT-CDO-ALLDAYEVENT:FALSE
SUMMARY:Martin Field Airport Open House
DESCRIPTION:Come visit for food\, fun and free flights (ages 8-17 & with a parent signature).\n\nFree Model Plane Flt Lessons\, Free Simulators\, Pedal Planes for toddlers\, Vintage Aircraft Display and food by West of the Blue BBQ.
X-ALT-DESC;FMTTYPE=text/html:Come visit for food\, fun and free flights (ages 8-17 &amp\; with a parent signature).<br />\nFree Model Plane Flt Lessons\, Free Simulators\, Pedal Planes for toddlers\, Vintage Aircraft Display and food by West of the Blue BBQ.<br />\n<br />\n&nbsp\;
LOCATION:Martin Field Airport West Whitman Drive 1 mile West of College Ave in College Place\, WA
UID:e.65.1759
SEQUENCE:3
DTSTAMP:20260421T205643Z
URL:https://business.wwvchamber.com/events/details/martin-field-airport-open-house-06-01-2014-1759
END:VEVENT

END:VCALENDAR
