BEGIN:VCALENDAR
VERSION:2.0
PRODID:-//ChamberMaster//Event Calendar 2.0//EN
METHOD:PUBLISH
X-PUBLISHED-TTL:P3D
REFRESH-INTERVAL:P3D
CALSCALE:GREGORIAN
BEGIN:VEVENT
DTSTART:20260403T170000Z
DTEND:20260403T230000Z
X-MICROSOFT-CDO-ALLDAYEVENT:FALSE
SUMMARY:Mediterranean Bites @ Pepper Bridge Winery
DESCRIPTION:We'll be celebrating Spring along with the rest of the valley with our current releases and a festive pairing for Mediterranean light bites. What to Expect   New Wine Release   Be among the first to experience our 2023 Cabernet Sauvignon in the Tasting Room! Club members have just received their allocations\, and now it's time to savor this exquisite vintage together.   Mediterranean Pairings - We've tried our favorite Greek and Mediterranean bites with our wine and selected a delicious spread we know you're going to love with the new release. Complimentary throughout the weekend.   Spring Ambiance   Weather permitting\, we'll be embracing the beauty of the season on our scenic outdoor patios\, soaking in the fresh air\, nearly budding vines\, and the joyful energy of spring in the vineyard. Reservations are recommended to secure a table during this bustling weekend.
X-ALT-DESC;FMTTYPE=text/html:We&#39\;ll be celebrating Spring along with the rest of the valley with our current releases and a festive pairing for Mediterranean light bites. What to Expect &bull\; New Wine Release &ndash\; Be among the first to experience our 2023 Cabernet Sauvignon in the Tasting Room! Club members have just received their allocations\, and now it&rsquo\;s time to savor this exquisite vintage together. &bull\; Mediterranean Pairings - We&#39\;ve tried our favorite Greek and Mediterranean bites with our wine and selected a delicious spread we know you&#39\;re going to love with the new release. Complimentary throughout the weekend. &bull\; Spring Ambiance &ndash\; Weather permitting\, we&rsquo\;ll be embracing the beauty of the season on our scenic outdoor patios\, soaking in the fresh air\, nearly budding vines\, and the joyful energy of spring in the vineyard. Reservations are recommended to secure a table during this bustling weekend.
LOCATION:Pepper Bridge Winery 1704 J B George Rd Walla Walla\, WA
UID:e.65.21951
SEQUENCE:3
DTSTAMP:20260425T163310Z
URL:https://business.wwvchamber.com/events/details/mediterranean-bites-pepper-bridge-winery-21951
END:VEVENT

END:VCALENDAR
