BEGIN:VCALENDAR
VERSION:2.0
PRODID:-//ChamberMaster//Event Calendar 2.0//EN
METHOD:PUBLISH
X-PUBLISHED-TTL:P3D
REFRESH-INTERVAL:P3D
CALSCALE:GREGORIAN
BEGIN:VEVENT
DTSTART:20140727T023000Z
DTEND:20140727T050000Z
X-MICROSOFT-CDO-ALLDAYEVENT:FALSE
SUMMARY:Medium Troy and the Bohemian Dub Orchestra
DESCRIPTION:When the Eugene-based dub-hop trio Medium Troy decided to revamp their sound by adding classical stringed instruments\, the Bohemian Dub Orchestra was formed. This new concert experience is a psychedelic modern fantasia with full concert orchestra\, dance troops\, and multimedia.
X-ALT-DESC;FMTTYPE=text/html:When the Eugene-based dub-hop trio Medium Troy decided to revamp their sound by adding classical stringed instruments\, the Bohemian Dub Orchestra was formed. This new concert experience is a psychedelic modern fantasia with full concert orchestra\, dance troops\, and multimedia.&nbsp\;
LOCATION:Gesa Power House Theatre
UID:e.65.1809
SEQUENCE:3
DTSTAMP:20260421T180618Z
URL:https://business.wwvchamber.com/events/details/medium-troy-and-the-bohemian-dub-orchestra-07-26-2014-1809
END:VEVENT

END:VCALENDAR
