BEGIN:VCALENDAR
VERSION:2.0
PRODID:-//ChamberMaster//Event Calendar 2.0//EN
METHOD:PUBLISH
X-PUBLISHED-TTL:P3D
REFRESH-INTERVAL:P3D
CALSCALE:GREGORIAN
BEGIN:VEVENT
DTSTART;VALUE=DATE:20140607
DTEND;VALUE=DATE:20140609
TRANSP:TRANSPARENT
X-MICROSOFT-CDO-ALLDAYEVENT:TRUE
SUMMARY:Meet the Author - Diane B. Reed
DESCRIPTION:Join Diane B. Reed\, author of Legendary Locals of Walla Walla\, at this year's Fort Walla Walla Days events! Meet the author and discover the fascinating stories of unique individuals and groups\, past and present\, who have had a lasting impact on the community.
X-ALT-DESC;FMTTYPE=text/html:Join Diane B. Reed\, author of Legendary Locals of Walla Walla\, at this year&#39\;s Fort Walla Walla Days events! Meet the author and discover the fascinating stories of unique individuals and groups\, past and present\, who have had a lasting impact on the community.
LOCATION:Fort Walla Walla Museum\, 755 Myra Road\, Walla Walla\, WA 99362
UID:e.65.1742
SEQUENCE:3
DTSTAMP:20260421T205423Z
URL:https://business.wwvchamber.com/events/details/meet-the-author-diane-b-reed-06-07-2014-1742
END:VEVENT

END:VCALENDAR
