BEGIN:VCALENDAR
VERSION:2.0
PRODID:-//ChamberMaster//Event Calendar 2.0//EN
METHOD:PUBLISH
X-PUBLISHED-TTL:P3D
REFRESH-INTERVAL:P3D
CALSCALE:GREGORIAN
BEGIN:VEVENT
DTSTART:20140509T210000Z
DTEND:20140511T000000Z
X-MICROSOFT-CDO-ALLDAYEVENT:FALSE
SUMMARY:Meet the Tooth Fairy and get your picture!
DESCRIPTION:Come meet the tooth fairy at the Walla Walla Spring Fling at Pioneer Park.  You can even get your picture taken and learn about good oral hygiene.
X-ALT-DESC;FMTTYPE=text/html:Come meet the tooth fairy at the Walla Walla Spring Fling at Pioneer Park.&nbsp\; You can even get your picture taken and learn about good oral hygiene.
LOCATION:Pioneer Park
UID:e.65.1737
SEQUENCE:3
DTSTAMP:20260421T211458Z
URL:https://business.wwvchamber.com/events/details/meet-the-tooth-fairy-and-get-your-picture-05-09-2014-1737
END:VEVENT

END:VCALENDAR
