BEGIN:VCALENDAR
VERSION:2.0
PRODID:-//ChamberMaster//Event Calendar 2.0//EN
METHOD:PUBLISH
X-PUBLISHED-TTL:P3D
REFRESH-INTERVAL:P3D
CALSCALE:GREGORIAN
BEGIN:VEVENT
DTSTART:20140302T030000Z
DTEND:20140302T070000Z
X-MICROSOFT-CDO-ALLDAYEVENT:FALSE
SUMMARY:Mom Prom
DESCRIPTION:Moms+Prom Dresses=Mom Prom! Live band\, wine and dancing!
X-ALT-DESC;FMTTYPE=text/html:Moms+Prom Dresses=Mom Prom! Live band\, wine and dancing! 
LOCATION:Marcus Whitman Hotel and Conference Center
UID:e.65.965
SEQUENCE:3
DTSTAMP:20260422T003655Z
URL:https://business.wwvchamber.com/events/details/mom-prom-03-01-2014-965
END:VEVENT

END:VCALENDAR
