BEGIN:VCALENDAR
VERSION:2.0
PRODID:-//ChamberMaster//Event Calendar 2.0//EN
METHOD:PUBLISH
X-PUBLISHED-TTL:P3D
REFRESH-INTERVAL:P3D
CALSCALE:GREGORIAN
BEGIN:VEVENT
DTSTART:20140726T033000Z
DTEND:20140726T063000Z
X-MICROSOFT-CDO-ALLDAYEVENT:FALSE
SUMMARY:Movie in the VIneyard featuring Big Night
DESCRIPTION:Come enjoy a relaxing evening under the stars with a glass of wine and a movie in our beautiful outdoor amphitheater. Bring your own lawn chairs or blankets and enjoy our feature film. We will have wine of course\, and an assortment of non-alcoholic beverages\, cheese plates\, snack items and sweet treats available for purchase. No outside food or beverages may be brought on-site\, thank you for understanding. Complimentary to attend. Free movie popcorn will be provided. No RSVP Required All ages are welcome. Although we love pets and welcome them to our tasting room during business hours\, no pets will be allowed during our movie events. Friday\, July 25 Doors 8:30pm\, movie at dusk "Big Night" (1996) Directed by Campbell Scott & Stanley Tucci. A failing Italian restaurant run by two brothers gambles on one special night to try to save the business.
X-ALT-DESC;FMTTYPE=text/html:Come enjoy a relaxing evening under the stars with a glass of wine and a movie in our beautiful outdoor amphitheater. Bring your own lawn chairs or blankets and enjoy our feature film. We will have wine of course\, and an assortment of non-alcoholic beverages\, cheese plates\, snack items and sweet treats available for purchase. No outside food or beverages may be brought on-site\, thank you for understanding. Complimentary to attend. Free movie popcorn will be provided. No RSVP Required All ages are welcome. Although we love pets and welcome them to our tasting room during business hours\, no pets will be allowed during our movie events. Friday\, July 25 Doors 8:30pm\, movie at dusk &quot\;Big Night&quot\; (1996) Directed by Campbell Scott &amp\; Stanley Tucci. A failing Italian restaurant run by two brothers gambles on one special night to try to save the business.
LOCATION:Three Rivers Winery 5641 Old Hwy 12 Walla Walla WA 99362
UID:e.65.1845
SEQUENCE:3
DTSTAMP:20260421T190947Z
URL:https://business.wwvchamber.com/events/details/movie-in-the-vineyard-featuring-big-night-07-25-2014-1845
END:VEVENT

END:VCALENDAR
