BEGIN:VCALENDAR
VERSION:2.0
PRODID:-//ChamberMaster//Event Calendar 2.0//EN
METHOD:PUBLISH
X-PUBLISHED-TTL:P3D
REFRESH-INTERVAL:P3D
CALSCALE:GREGORIAN
BEGIN:VEVENT
DTSTART:20140711T013000Z
DTEND:20140711T033000Z
X-MICROSOFT-CDO-ALLDAYEVENT:FALSE
SUMMARY:Movie Night: "Freaks" (1932)
DESCRIPTION:Movie Night features cult hits and overlooked classics every second Thursday of the Month. Come early for dinner from local food trucks\, beer\, wine\, and concessions. The 1932 film "Freaks" was controversial when it was released for its use of real side-show performers and people with genuine physical deformities to play the circus performers in the film.  Doors open at 5 p.m.
X-ALT-DESC;FMTTYPE=text/html:Movie Night features cult hits and overlooked classics every second Thursday of the Month. Come early for dinner from local food trucks\, beer\, wine\, and concessions. The 1932 film &quot\;Freaks&quot\; was controversial when it was released for its use of real side-show performers and people with genuine physical deformities to play the circus performers in the film.&nbsp\; Doors open at 5 p.m.
LOCATION:Gesa Power House Theatre
UID:e.65.1805
SEQUENCE:3
DTSTAMP:20260421T180515Z
URL:https://business.wwvchamber.com/events/details/movie-night-freaks-1932-07-10-2014-1805
END:VEVENT

END:VCALENDAR
