BEGIN:VCALENDAR
VERSION:2.0
PRODID:-//ChamberMaster//Event Calendar 2.0//EN
METHOD:PUBLISH
X-PUBLISHED-TTL:P3D
REFRESH-INTERVAL:P3D
CALSCALE:GREGORIAN
BEGIN:VEVENT
DTSTART:20140822T013000Z
DTEND:20140822T033000Z
X-MICROSOFT-CDO-ALLDAYEVENT:FALSE
SUMMARY:Movie Night: "The Bicycle Thief"
DESCRIPTION:Movie Night features cult hits and overlooked classics every second Thursday of the Month. Come early for dinner from local food trucks\, beer\, wine\, and concessions. "The Bicycle Thief" (1949) is the story of a man struggling to find work in post-WWII Italy. His joy at finding a job is short-lived when the bicycle he needs to do the job is stolen. This Italian film was awarded an honorary Oscar in 1950 (prior to the creation of the Best Foreign Language Film category). This film is in Italian with English subtitles. Doors open at 5 p.m.
X-ALT-DESC;FMTTYPE=text/html:Movie Night features cult hits and overlooked classics every second Thursday of the Month. Come early for dinner from local food trucks\, beer\, wine\, and concessions. &quot\;The Bicycle Thief&quot\; (1949) is the story of a man struggling to find work in post-WWII Italy. His joy at finding a job is short-lived when the bicycle he needs to do the job is stolen. This Italian film was awarded an honorary Oscar in 1950 (prior to the creation of the Best Foreign Language Film category). This film is in Italian with English subtitles. Doors open at 5 p.m.
LOCATION:Gesa Power House Theatre
UID:e.65.1806
SEQUENCE:3
DTSTAMP:20260421T161041Z
URL:https://business.wwvchamber.com/events/details/movie-night-the-bicycle-thief-08-21-2014-1806
END:VEVENT

END:VCALENDAR
