BEGIN:VCALENDAR
VERSION:2.0
PRODID:-//ChamberMaster//Event Calendar 2.0//EN
METHOD:PUBLISH
X-PUBLISHED-TTL:P3D
REFRESH-INTERVAL:P3D
CALSCALE:GREGORIAN
BEGIN:VEVENT
DTSTART:20140628T200000Z
DTEND:20140628T220000Z
X-MICROSOFT-CDO-ALLDAYEVENT:FALSE
SUMMARY:Music in the Vineyards at Pepper Bridge Winery
DESCRIPTION:June 28th\n\nMusic in the Vineyards 1-3 pm\, Walla Walla Tasting Room with Dakota Brown & Luke Basile- Acoustic\n\ncatering by (WWCC) Titus Creek Food Truck
X-ALT-DESC;FMTTYPE=text/html:<br />\nJune 28th<br />\nMusic in the Vineyards 1-3 pm\, Walla Walla Tasting Room with Dakota Brown &amp\; Luke Basile- Acoustic<br />\ncatering by (WWCC) Titus Creek Food Truck
LOCATION:Pepper Bridge Winery 1704 J B George Road Walla Walla WA 99362
UID:e.65.1630
SEQUENCE:3
DTSTAMP:20260421T205800Z
URL:https://business.wwvchamber.com/events/details/music-in-the-vineyards-at-pepper-bridge-winery-06-28-2014-1630
END:VEVENT

END:VCALENDAR
