BEGIN:VCALENDAR
VERSION:2.0
PRODID:-//ChamberMaster//Event Calendar 2.0//EN
METHOD:PUBLISH
X-PUBLISHED-TTL:P3D
REFRESH-INTERVAL:P3D
CALSCALE:GREGORIAN
BEGIN:VEVENT
DTSTART:20140726T200000Z
DTEND:20140726T220000Z
X-MICROSOFT-CDO-ALLDAYEVENT:FALSE
SUMMARY:Music in the Vineyards at Pepper Bridge Winery
DESCRIPTION:July 26th\n\nMusic in the Vineyards 1-3 pm\, Walla Walla Tasting Room with Frazer Wambeke  -Jazz
X-ALT-DESC;FMTTYPE=text/html:<b>July 26<sup>th</sup></b><br />\nMusic in the Vineyards 1-3 pm\, Walla Walla Tasting Room with Frazer Wambeke&nbsp\; -<i>Jazz</i>
LOCATION:Pepper Bridge Winery 1704 J B George Road Walla Walla\, WA 99362
UID:e.65.1629
SEQUENCE:3
DTSTAMP:20260421T180808Z
URL:https://business.wwvchamber.com/events/details/music-in-the-vineyards-at-pepper-bridge-winery-07-26-2014-1629
END:VEVENT

END:VCALENDAR
